OziExplorer Map Data File Version 2.2
Малый и восточный Кронштадтский рейды
G:\Navymap\28005_mal_vost_kron_reid.gif
1 ,Map Code,
Pulkovo 1942 (1),WGS 84, 0.0000, 0.0000,WGS 84
Reserved 1
Reserved 2
Magnetic Variation,,,E
Map Projection,Mercator,PolyCal,No,AutoCalOnly,No,BSBUseWPX,No
Point01,xy, 72, 79,in, deg, 59, 59.3000,N, 29, 44.9000,E, grid, , , ,N
Point02,xy, 1688, 79,in, deg, 59, 59.3000,N, 29, 47.0000,E, grid, , , ,N
Point03,xy, 3920, 79,in, deg, 59, 59.3000,N, 29, 49.9000,E, grid, , , ,N
Point04,xy, 70, 1300,in, deg, 59, 58.5000,N, 29, 44.9000,E, grid, , , ,N
Point05,xy, 1688, 1299,in, deg, 59, 58.5000,N, 29, 47.0000,E, grid, , , ,N
Point06,xy, 3921, 1297,in, deg, 59, 58.5000,N, 29, 49.9000,E, grid, , , ,N
Point07,xy, 72, 2826,in, deg, 59, 57.5000,N, 29, 44.9000,E, grid, , , ,N
Point08,xy, 1687, 2826,in, deg, 59, 57.5000,N, 29, 47.0000,E, grid, , , ,N
Point09,xy, 3922, 2823,in, deg, 59, 57.5000,N, 29, 49.9000,E, grid, , , ,N
Point10,xy, , ,in, deg, , ,N, , ,W, grid, , , ,N
Point11,xy, , ,in, deg, , ,N, , ,W, grid, , , ,N
Point12,xy, , ,in, deg, , ,N, , ,W, grid, , , ,N
Point13,xy, , ,in, deg, , ,N, , ,W, grid, , , ,N
Point14,xy, , ,in, deg, , ,N, , ,W, grid, , , ,N
Point15,xy, , ,in, deg, , ,N, , ,W, grid, , , ,N
Point16,xy, , ,in, deg, , ,N, , ,W, grid, , , ,N
Point17,xy, , ,in, deg, , ,N, , ,W, grid, , , ,N
Point18,xy, , ,in, deg, , ,N, , ,W, grid, , , ,N
Point19,xy, , ,in, deg, , ,N, , ,W, grid, , , ,N
Point20,xy, , ,in, deg, , ,N, , ,W, grid, , , ,N
Point21,xy, , ,in, deg, , ,N, , ,W, grid, , , ,N
Point22,xy, , ,in, deg, , ,N, , ,W, grid, , , ,N
Point23,xy, , ,in, deg, , ,N, , ,W, grid, , , ,N
Point24,xy, , ,in, deg, , ,N, , ,W, grid, , , ,N
Point25,xy, , ,in, deg, , ,N, , ,W, grid, , , ,N
Point26,xy, , ,in, deg, , ,N, , ,W, grid, , , ,N
Point27,xy, , ,in, deg, , ,N, , ,W, grid, , , ,N
Point28,xy, , ,in, deg, , ,N, , ,W, grid, , , ,N
Point29,xy, , ,in, deg, , ,N, , ,W, grid, , , ,N
Point30,xy, , ,in, deg, , ,N, , ,W, grid, , , ,N
Projection Setup,,,,,,,,,,
Map Feature = MF ; Map Comment = MC These follow if they exist
Track File = TF These follow if they exist
Moving Map Parameters = MM? These follow if they exist
MM0,Yes
MMPNUM,4
MMPXY,1,0,0
MMPXY,2,4000,0
MMPXY,3,4000,2978
MMPXY,4,0,2978
MMPLL,1, 29.746798, 59.989203
MMPLL,2, 29.833384, 59.989179
MMPLL,3, 29.833375, 59.956645
MMPLL,4, 29.746789, 59.956669
MM1B,1.207713
MOP,Map Open Position,0,0
IWH,Map Image Width/Height,4000,2978
